BEGIN:VCALENDAR
VERSION:2.0
PRODID:-//Orchester des Kreises Ahrweiler e.V. - ECPv6.15.17.1//NONSGML v1.0//EN
CALSCALE:GREGORIAN
METHOD:PUBLISH
X-WR-CALNAME:Orchester des Kreises Ahrweiler e.V.
X-ORIGINAL-URL:https://orchester-kreisahrweiler.de
X-WR-CALDESC:Veranstaltungen für Orchester des Kreises Ahrweiler e.V.
REFRESH-INTERVAL;VALUE=DURATION:PT1H
X-Robots-Tag:noindex
X-PUBLISHED-TTL:PT1H
BEGIN:VTIMEZONE
TZID:Europe/Berlin
BEGIN:DAYLIGHT
TZOFFSETFROM:+0100
TZOFFSETTO:+0200
TZNAME:CEST
DTSTART:20240331T010000
END:DAYLIGHT
BEGIN:STANDARD
TZOFFSETFROM:+0200
TZOFFSETTO:+0100
TZNAME:CET
DTSTART:20241027T010000
END:STANDARD
BEGIN:DAYLIGHT
TZOFFSETFROM:+0100
TZOFFSETTO:+0200
TZNAME:CEST
DTSTART:20250330T010000
END:DAYLIGHT
BEGIN:STANDARD
TZOFFSETFROM:+0200
TZOFFSETTO:+0100
TZNAME:CET
DTSTART:20251026T010000
END:STANDARD
BEGIN:DAYLIGHT
TZOFFSETFROM:+0100
TZOFFSETTO:+0200
TZNAME:CEST
DTSTART:20260329T010000
END:DAYLIGHT
BEGIN:STANDARD
TZOFFSETFROM:+0200
TZOFFSETTO:+0100
TZNAME:CET
DTSTART:20261025T010000
END:STANDARD
BEGIN:DAYLIGHT
TZOFFSETFROM:+0100
TZOFFSETTO:+0200
TZNAME:CEST
DTSTART:20270328T010000
END:DAYLIGHT
BEGIN:STANDARD
TZOFFSETFROM:+0200
TZOFFSETTO:+0100
TZNAME:CET
DTSTART:20271031T010000
END:STANDARD
END:VTIMEZONE
BEGIN:VEVENT
DTSTART;TZID=Europe/Berlin:20251205T193000
DTEND;TZID=Europe/Berlin:20251205T213000
DTSTAMP:20260420T122032
CREATED:20250907T171606Z
LAST-MODIFIED:20251203T150215Z
UID:1598-1764963000-1764970200@orchester-kreisahrweiler.de
SUMMARY:Generalprobe
DESCRIPTION:
URL:https://orchester-kreisahrweiler.de/event/probe-7/
LOCATION:Remagen\, Rhein-Ahr-Campus – AudiMax\, Joseph-Rovan-Allee 2\, Remagen\, 53424
CATEGORIES:Generalprobe,Probe
END:VEVENT
BEGIN:VEVENT
DTSTART;TZID=Europe/Berlin:20251206T160000
DTEND;TZID=Europe/Berlin:20251206T173000
DTSTAMP:20260420T122032
CREATED:20250611T115226Z
LAST-MODIFIED:20251110T122636Z
UID:1452-1765036800-1765042200@orchester-kreisahrweiler.de
SUMMARY:Konzert im Rahmen der Uferlichter
DESCRIPTION:Mendelssohn: Violinkonzert e-moll\,  Beethoven: Egmont – Ouvertüre\, Schubert: Unvollendete \nAnspielprobe um 14:30 Uhr \n 
URL:https://orchester-kreisahrweiler.de/event/konzert-im-rahmen-der-uferlichter/
CATEGORIES:Konzert
END:VEVENT
BEGIN:VEVENT
DTSTART;TZID=Europe/Berlin:20251209T193000
DTEND;TZID=Europe/Berlin:20251209T213000
DTSTAMP:20260420T122032
CREATED:20250907T171847Z
LAST-MODIFIED:20251108T155509Z
UID:1601-1765308600-1765315800@orchester-kreisahrweiler.de
SUMMARY:Probedirigat 1
DESCRIPTION:
URL:https://orchester-kreisahrweiler.de/event/ggf-mitgliederversammlung/
LOCATION:Pfarrheim Sinzig\, Zehnhofstraße 9\, Sinzig\, 53489\, Germany
END:VEVENT
BEGIN:VEVENT
DTSTART;TZID=Europe/Berlin:20251212T183000
DTEND;TZID=Europe/Berlin:20251212T223000
DTSTAMP:20260420T122032
CREATED:20250907T172027Z
LAST-MODIFIED:20251203T150145Z
UID:1606-1765564200-1765578600@orchester-kreisahrweiler.de
SUMMARY:Verabschiedung N. Kazakova
DESCRIPTION:
URL:https://orchester-kreisahrweiler.de/event/ggf-mitgliederversammlung-3/
LOCATION:Ramersbacher Straße 19\, 53474 BAd Neuenahr-Ahrweiler
CATEGORIES:Sonstiges
END:VEVENT
BEGIN:VEVENT
DTSTART;TZID=Europe/Berlin:20251216T193000
DTEND;TZID=Europe/Berlin:20251216T213000
DTSTAMP:20260420T122032
CREATED:20250907T171943Z
LAST-MODIFIED:20251108T155535Z
UID:1604-1765913400-1765920600@orchester-kreisahrweiler.de
SUMMARY:Probedirigat 2
DESCRIPTION:
URL:https://orchester-kreisahrweiler.de/event/ggf-mitgliederversammlung-2/
LOCATION:Pfarrheim Sinzig\, Zehnhofstraße 9\, Sinzig\, 53489\, Germany
END:VEVENT
BEGIN:VEVENT
DTSTART;TZID=Europe/Berlin:20251220T000000
DTEND;TZID=Europe/Berlin:20260107T235959
DTSTAMP:20260420T122032
CREATED:20250907T172242Z
LAST-MODIFIED:20250907T172243Z
UID:1608-1766188800-1767830399@orchester-kreisahrweiler.de
SUMMARY:Ferien und keine Proben
DESCRIPTION:
URL:https://orchester-kreisahrweiler.de/event/ferien-und-keine-proben/
END:VEVENT
END:VCALENDAR