BEGIN:VCALENDAR
VERSION:2.0
PRODID:-//Orchester des Kreises Ahrweiler e.V. - ECPv6.15.17.1//NONSGML v1.0//EN
CALSCALE:GREGORIAN
METHOD:PUBLISH
X-WR-CALNAME:Orchester des Kreises Ahrweiler e.V.
X-ORIGINAL-URL:https://orchester-kreisahrweiler.de
X-WR-CALDESC:Veranstaltungen für Orchester des Kreises Ahrweiler e.V.
REFRESH-INTERVAL;VALUE=DURATION:PT1H
X-Robots-Tag:noindex
X-PUBLISHED-TTL:PT1H
BEGIN:VTIMEZONE
TZID:Europe/Berlin
BEGIN:DAYLIGHT
TZOFFSETFROM:+0100
TZOFFSETTO:+0200
TZNAME:CEST
DTSTART:20240331T010000
END:DAYLIGHT
BEGIN:STANDARD
TZOFFSETFROM:+0200
TZOFFSETTO:+0100
TZNAME:CET
DTSTART:20241027T010000
END:STANDARD
BEGIN:DAYLIGHT
TZOFFSETFROM:+0100
TZOFFSETTO:+0200
TZNAME:CEST
DTSTART:20250330T010000
END:DAYLIGHT
BEGIN:STANDARD
TZOFFSETFROM:+0200
TZOFFSETTO:+0100
TZNAME:CET
DTSTART:20251026T010000
END:STANDARD
BEGIN:DAYLIGHT
TZOFFSETFROM:+0100
TZOFFSETTO:+0200
TZNAME:CEST
DTSTART:20260329T010000
END:DAYLIGHT
BEGIN:STANDARD
TZOFFSETFROM:+0200
TZOFFSETTO:+0100
TZNAME:CET
DTSTART:20261025T010000
END:STANDARD
END:VTIMEZONE
BEGIN:VEVENT
DTSTART;TZID=Europe/Berlin:20251003T073000
DTEND;TZID=Europe/Berlin:20251003T213000
DTSTAMP:20260422T140951
CREATED:20250907T165815Z
LAST-MODIFIED:20250907T170352Z
UID:1573-1759476600-1759527000@orchester-kreisahrweiler.de
SUMMARY:KEINE Probe (Tag der dt. Einheit)
DESCRIPTION:
URL:https://orchester-kreisahrweiler.de/event/probe-haydn-klavierkonzert-2/
CATEGORIES:Probe
END:VEVENT
BEGIN:VEVENT
DTSTART;TZID=Europe/Berlin:20251010T193000
DTEND;TZID=Europe/Berlin:20251010T213000
DTSTAMP:20260422T140951
CREATED:20250907T170708Z
LAST-MODIFIED:20250920T125627Z
UID:1583-1760124600-1760131800@orchester-kreisahrweiler.de
SUMMARY:Probe - Haydn und Kammermusikprogramm
DESCRIPTION:
URL:https://orchester-kreisahrweiler.de/event/probe-haydn/
LOCATION:Ev. Friedenskirche Remagen\, Marktstr. 25\, Marktstrasse 25\, Remagen\, 53424\, Germany
CATEGORIES:Probe
END:VEVENT
BEGIN:VEVENT
DTSTART;TZID=Europe/Berlin:20251028T183000
DTEND;TZID=Europe/Berlin:20251028T213000
DTSTAMP:20260422T140951
CREATED:20250907T170141Z
LAST-MODIFIED:20250920T125857Z
UID:1577-1761676200-1761687000@orchester-kreisahrweiler.de
SUMMARY:Probe - Durchlauprobe Kammermusikprojekt (inkl. Haydn)
DESCRIPTION:
URL:https://orchester-kreisahrweiler.de/event/probe-3/
LOCATION:Ev. Friedenskirche Remagen\, Marktstr. 25\, Marktstrasse 25\, Remagen\, 53424\, Germany
CATEGORIES:Probe
END:VEVENT
BEGIN:VEVENT
DTSTART;TZID=Europe/Berlin:20251031T193000
DTEND;TZID=Europe/Berlin:20251031T213000
DTSTAMP:20260422T140951
CREATED:20250907T170305Z
LAST-MODIFIED:20251031T160706Z
UID:1580-1761939000-1761946200@orchester-kreisahrweiler.de
SUMMARY:Generalprobe Kammermusikkonzert inkl. Haydn
DESCRIPTION:
URL:https://orchester-kreisahrweiler.de/event/generalprobe/
LOCATION:Ev. Friedenskirche Remagen\, Marktstr. 25\, Marktstrasse 25\, Remagen\, 53424\, Germany
CATEGORIES:Generalprobe
END:VEVENT
END:VCALENDAR