BEGIN:VCALENDAR
VERSION:2.0
PRODID:-//Orchester des Kreises Ahrweiler e.V. - ECPv6.15.17.1//NONSGML v1.0//EN
CALSCALE:GREGORIAN
METHOD:PUBLISH
X-WR-CALNAME:Orchester des Kreises Ahrweiler e.V.
X-ORIGINAL-URL:https://orchester-kreisahrweiler.de
X-WR-CALDESC:Veranstaltungen für Orchester des Kreises Ahrweiler e.V.
REFRESH-INTERVAL;VALUE=DURATION:PT1H
X-Robots-Tag:noindex
X-PUBLISHED-TTL:PT1H
BEGIN:VTIMEZONE
TZID:Europe/Berlin
BEGIN:DAYLIGHT
TZOFFSETFROM:+0100
TZOFFSETTO:+0200
TZNAME:CEST
DTSTART:20240331T010000
END:DAYLIGHT
BEGIN:STANDARD
TZOFFSETFROM:+0200
TZOFFSETTO:+0100
TZNAME:CET
DTSTART:20241027T010000
END:STANDARD
BEGIN:DAYLIGHT
TZOFFSETFROM:+0100
TZOFFSETTO:+0200
TZNAME:CEST
DTSTART:20250330T010000
END:DAYLIGHT
BEGIN:STANDARD
TZOFFSETFROM:+0200
TZOFFSETTO:+0100
TZNAME:CET
DTSTART:20251026T010000
END:STANDARD
BEGIN:DAYLIGHT
TZOFFSETFROM:+0100
TZOFFSETTO:+0200
TZNAME:CEST
DTSTART:20260329T010000
END:DAYLIGHT
BEGIN:STANDARD
TZOFFSETFROM:+0200
TZOFFSETTO:+0100
TZNAME:CET
DTSTART:20261025T010000
END:STANDARD
END:VTIMEZONE
BEGIN:VTIMEZONE
TZID:Europe/Luxembourg
BEGIN:DAYLIGHT
TZOFFSETFROM:+0100
TZOFFSETTO:+0200
TZNAME:CEST
DTSTART:20240331T010000
END:DAYLIGHT
BEGIN:STANDARD
TZOFFSETFROM:+0200
TZOFFSETTO:+0100
TZNAME:CET
DTSTART:20241027T010000
END:STANDARD
BEGIN:DAYLIGHT
TZOFFSETFROM:+0100
TZOFFSETTO:+0200
TZNAME:CEST
DTSTART:20250330T010000
END:DAYLIGHT
BEGIN:STANDARD
TZOFFSETFROM:+0200
TZOFFSETTO:+0100
TZNAME:CET
DTSTART:20251026T010000
END:STANDARD
BEGIN:DAYLIGHT
TZOFFSETFROM:+0100
TZOFFSETTO:+0200
TZNAME:CEST
DTSTART:20260329T010000
END:DAYLIGHT
BEGIN:STANDARD
TZOFFSETFROM:+0200
TZOFFSETTO:+0100
TZNAME:CET
DTSTART:20261025T010000
END:STANDARD
END:VTIMEZONE
BEGIN:VEVENT
DTSTART;TZID=Europe/Berlin:20250613T160000
DTEND;TZID=Europe/Berlin:20250613T173000
DTSTAMP:20260422T204705
CREATED:20250611T111006Z
LAST-MODIFIED:20250611T111023Z
UID:1415-1749830400-1749835800@orchester-kreisahrweiler.de
SUMMARY:Probe - Celli und Bass
DESCRIPTION:
URL:https://orchester-kreisahrweiler.de/event/probe-celli-und-bass/
LOCATION:Aula des Gymnasiums Calvarienberg\, Ahrweiler\, Kalvarienbergstrasse\, Bad Neuenahr-Ahrweiler\, 53474\, Germany
CATEGORIES:Probe
END:VEVENT
BEGIN:VEVENT
DTSTART;TZID=Europe/Berlin:20250613T173000
DTEND;TZID=Europe/Berlin:20250613T190000
DTSTAMP:20260422T204705
CREATED:20250611T110919Z
LAST-MODIFIED:20250614T104856Z
UID:1421-1749835800-1749841200@orchester-kreisahrweiler.de
SUMMARY:Probe - Tutti mit Solistin
DESCRIPTION:
URL:https://orchester-kreisahrweiler.de/event/probe-tutti-mit-solistin/
LOCATION:Aula des Gymnasiums Calvarienberg\, Ahrweiler\, Kalvarienbergstrasse\, Bad Neuenahr-Ahrweiler\, 53474\, Germany
CATEGORIES:Probe
END:VEVENT
BEGIN:VEVENT
DTSTART;TZID=Europe/Luxembourg:20250617T190000
DTEND;TZID=Europe/Luxembourg:20250617T210000
DTSTAMP:20260422T204705
CREATED:20250611T110840Z
LAST-MODIFIED:20250614T105114Z
UID:1423-1750186800-1750194000@orchester-kreisahrweiler.de
SUMMARY:Konzert - Broadway meets Classic
DESCRIPTION:Programm Calvarienberg 2025 Comic Sans
URL:https://orchester-kreisahrweiler.de/event/konzert-broadway-meets-classic/
LOCATION:Aula des Gymnasiums Calvarienberg\, Ahrweiler\, Kalvarienbergstrasse\, Bad Neuenahr-Ahrweiler\, 53474\, Germany
CATEGORIES:Konzert
ATTACH;FMTTYPE=image/png:https://orchester-kreisahrweiler.de/wp-content/uploads/2025/06/Konzert-Calvarienberg-AW-OdKAW-17-06-25-A4.png
END:VEVENT
BEGIN:VEVENT
DTSTART;TZID=Europe/Berlin:20250624T193000
DTEND;TZID=Europe/Berlin:20250624T213000
DTSTAMP:20260422T204705
CREATED:20250611T114016Z
LAST-MODIFIED:20250614T104805Z
UID:1441-1750793400-1750800600@orchester-kreisahrweiler.de
SUMMARY:Probe - Tutti
DESCRIPTION:
URL:https://orchester-kreisahrweiler.de/event/probe-tutti/
LOCATION:Bad Bodendorf\, St. Sebastianus Kirche\, Im Ellig 28\, Bad Bodendorf\, 53489
CATEGORIES:Generalprobe
END:VEVENT
BEGIN:VEVENT
DTSTART;TZID=Europe/Berlin:20250627T173000
DTEND;TZID=Europe/Berlin:20250627T190000
DTSTAMP:20260422T204705
CREATED:20250611T114121Z
LAST-MODIFIED:20250611T114121Z
UID:1443-1751045400-1751050800@orchester-kreisahrweiler.de
SUMMARY:Generalprobe Konzert
DESCRIPTION:
URL:https://orchester-kreisahrweiler.de/event/generalprobe-konzert/
LOCATION:Bad Bodendorf\, St. Sebastianus Kirche\, Im Ellig 28\, Bad Bodendorf\, 53489
END:VEVENT
BEGIN:VEVENT
DTSTART;TZID=Europe/Berlin:20250628T180000
DTEND;TZID=Europe/Berlin:20250628T210000
DTSTAMP:20260422T204705
CREATED:20250611T114322Z
LAST-MODIFIED:20250611T114710Z
UID:1445-1751133600-1751144400@orchester-kreisahrweiler.de
SUMMARY:Konzert und Sommerfest
DESCRIPTION:
URL:https://orchester-kreisahrweiler.de/event/konzert-und-sommerfest/
LOCATION:Bad Bodendorf\, St. Sebastianus Kirche\, Im Ellig 28\, Bad Bodendorf\, 53489
END:VEVENT
END:VCALENDAR