BEGIN:VCALENDAR
VERSION:2.0
PRODID:-//Orchester des Kreises Ahrweiler e.V. - ECPv6.15.17.1//NONSGML v1.0//EN
CALSCALE:GREGORIAN
METHOD:PUBLISH
X-WR-CALNAME:Orchester des Kreises Ahrweiler e.V.
X-ORIGINAL-URL:https://orchester-kreisahrweiler.de
X-WR-CALDESC:Veranstaltungen für Orchester des Kreises Ahrweiler e.V.
REFRESH-INTERVAL;VALUE=DURATION:PT1H
X-Robots-Tag:noindex
X-PUBLISHED-TTL:PT1H
BEGIN:VTIMEZONE
TZID:Europe/Berlin
BEGIN:DAYLIGHT
TZOFFSETFROM:+0100
TZOFFSETTO:+0200
TZNAME:CEST
DTSTART:20240331T010000
END:DAYLIGHT
BEGIN:STANDARD
TZOFFSETFROM:+0200
TZOFFSETTO:+0100
TZNAME:CET
DTSTART:20241027T010000
END:STANDARD
BEGIN:DAYLIGHT
TZOFFSETFROM:+0100
TZOFFSETTO:+0200
TZNAME:CEST
DTSTART:20250330T010000
END:DAYLIGHT
BEGIN:STANDARD
TZOFFSETFROM:+0200
TZOFFSETTO:+0100
TZNAME:CET
DTSTART:20251026T010000
END:STANDARD
BEGIN:DAYLIGHT
TZOFFSETFROM:+0100
TZOFFSETTO:+0200
TZNAME:CEST
DTSTART:20260329T010000
END:DAYLIGHT
BEGIN:STANDARD
TZOFFSETFROM:+0200
TZOFFSETTO:+0100
TZNAME:CET
DTSTART:20261025T010000
END:STANDARD
END:VTIMEZONE
BEGIN:VEVENT
DTSTART;TZID=Europe/Berlin:20251102T150000
DTEND;TZID=Europe/Berlin:20251102T163000
DTSTAMP:20260422T140951
CREATED:20250920T130153Z
LAST-MODIFIED:20251031T160916Z
UID:1638-1762095600-1762101000@orchester-kreisahrweiler.de
SUMMARY:Anspielprobe vor Konzert
DESCRIPTION:
URL:https://orchester-kreisahrweiler.de/event/anspielprobe-vor-konzert/
LOCATION:Ev. Friedenskirche Remagen\, Marktstr. 25\, Marktstrasse 25\, Remagen\, 53424\, Germany
CATEGORIES:Generalprobe
END:VEVENT
BEGIN:VEVENT
DTSTART;TZID=Europe/Berlin:20251102T170000
DTEND;TZID=Europe/Berlin:20251102T193000
DTSTAMP:20260422T140951
CREATED:20250611T114924Z
LAST-MODIFIED:20251031T160806Z
UID:1450-1762102800-1762111800@orchester-kreisahrweiler.de
SUMMARY:Kammermusikkonzert
DESCRIPTION:Die Mitglieder des Orchesters präsentieren in verschiedenen Kammermusikbesetzungen Werke der Klassik\, der Romantik und der Moderne. \nEinlass ab 16:30h.
URL:https://orchester-kreisahrweiler.de/event/kammermusikkonzert/
LOCATION:Ev. Friedenskirche Remagen\, Marktstr. 25\, Marktstrasse 25\, Remagen\, 53424\, Germany
CATEGORIES:Konzert
END:VEVENT
END:VCALENDAR