BEGIN:VCALENDAR
VERSION:2.0
PRODID:-//Orchester des Kreises Ahrweiler e.V. - ECPv6.15.17.1//NONSGML v1.0//EN
CALSCALE:GREGORIAN
METHOD:PUBLISH
X-ORIGINAL-URL:https://orchester-kreisahrweiler.de
X-WR-CALDESC:Veranstaltungen für Orchester des Kreises Ahrweiler e.V.
REFRESH-INTERVAL;VALUE=DURATION:PT1H
X-Robots-Tag:noindex
X-PUBLISHED-TTL:PT1H
BEGIN:VTIMEZONE
TZID:Europe/Berlin
BEGIN:DAYLIGHT
TZOFFSETFROM:+0100
TZOFFSETTO:+0200
TZNAME:CEST
DTSTART:20240331T010000
END:DAYLIGHT
BEGIN:STANDARD
TZOFFSETFROM:+0200
TZOFFSETTO:+0100
TZNAME:CET
DTSTART:20241027T010000
END:STANDARD
BEGIN:DAYLIGHT
TZOFFSETFROM:+0100
TZOFFSETTO:+0200
TZNAME:CEST
DTSTART:20250330T010000
END:DAYLIGHT
BEGIN:STANDARD
TZOFFSETFROM:+0200
TZOFFSETTO:+0100
TZNAME:CET
DTSTART:20251026T010000
END:STANDARD
BEGIN:DAYLIGHT
TZOFFSETFROM:+0100
TZOFFSETTO:+0200
TZNAME:CEST
DTSTART:20260329T010000
END:DAYLIGHT
BEGIN:STANDARD
TZOFFSETFROM:+0200
TZOFFSETTO:+0100
TZNAME:CET
DTSTART:20261025T010000
END:STANDARD
END:VTIMEZONE
BEGIN:VEVENT
DTSTART;TZID=Europe/Berlin:20251031T193000
DTEND;TZID=Europe/Berlin:20251031T213000
DTSTAMP:20260422T141039
CREATED:20250907T170305Z
LAST-MODIFIED:20251031T160706Z
UID:1580-1761939000-1761946200@orchester-kreisahrweiler.de
SUMMARY:Generalprobe Kammermusikkonzert inkl. Haydn
DESCRIPTION:
URL:https://orchester-kreisahrweiler.de/event/generalprobe/
LOCATION:Ev. Friedenskirche Remagen\, Marktstr. 25\, Marktstrasse 25\, Remagen\, 53424\, Germany
CATEGORIES:Generalprobe
END:VEVENT
END:VCALENDAR